BEGIN:VCALENDAR
VERSION:2.0
PRODID:icalendar-ruby
CALSCALE:GREGORIAN
METHOD:PUBLISH
BEGIN:VEVENT
DTSTAMP:20260422T171151Z
UID:15-441701@newcitychurch.com.au
DTSTART:20261101T050000Z
DTEND:20261101T060000Z
CLASS:PUBLIC
CREATED:20260423T023723
DESCRIPTION:Sunday Gatherings
LAST-MODIFIED:20260423T023723
LOCATION:37 St Johns Road\, Glebe 
SUMMARY:Sunday Gatherings 
URL;VALUE=URI:https://newcitychurch.com.au/events/sunday-gatherings/2026-11
 -01
END:VEVENT
END:VCALENDAR
