BEGIN:VCALENDAR
VERSION:2.0
PRODID:icalendar-ruby
CALSCALE:GREGORIAN
METHOD:PUBLISH
BEGIN:VEVENT
DTSTAMP:20260422T142711Z
UID:15-441439@newcitychurch.com.au
DTSTART:20261018T050000Z
DTEND:20261018T060000Z
CLASS:PUBLIC
CREATED:20260422T234159
DESCRIPTION:Sunday Gatherings
LAST-MODIFIED:20260422T234159
LOCATION:37 St Johns Road\, Glebe 
SUMMARY:Sunday Gatherings 
URL;VALUE=URI:https://newcitychurch.com.au/events/sunday-gatherings/2026-10
 -18
END:VEVENT
END:VCALENDAR
