BEGIN:VCALENDAR
VERSION:2.0
PRODID:icalendar-ruby
CALSCALE:GREGORIAN
METHOD:PUBLISH
BEGIN:VEVENT
DTSTAMP:20260422T125545Z
UID:15-441178@newcitychurch.com.au
DTSTART:20261011T050000Z
DTEND:20261011T060000Z
CLASS:PUBLIC
CREATED:20260422T204722
DESCRIPTION:Sunday Gatherings
LAST-MODIFIED:20260422T204722
LOCATION:37 St Johns Road\, Glebe 
SUMMARY:Sunday Gatherings 
URL;VALUE=URI:https://newcitychurch.com.au/events/sunday-gatherings/2026-10
 -11
END:VEVENT
END:VCALENDAR
