BEGIN:VCALENDAR
VERSION:2.0
PRODID:icalendar-ruby
CALSCALE:GREGORIAN
METHOD:PUBLISH
BEGIN:VEVENT
DTSTAMP:20260424T081902Z
UID:15-444037@newcitychurch.com.au
DTSTART:20261004T050000Z
DTEND:20261004T060000Z
CLASS:PUBLIC
CREATED:20260424T112021
DESCRIPTION:Sunday Gatherings
LAST-MODIFIED:20260424T112021
LOCATION:37 St Johns Road\, Glebe 
SUMMARY:Sunday Gatherings 
URL;VALUE=URI:https://newcitychurch.com.au/events/sunday-gatherings/2026-10
 -04
END:VEVENT
END:VCALENDAR
